BEGIN:VCALENDAR
VERSION:2.0
PRODID:-//Reach SF//EN
CALSCALE:GREGORIAN
METHOD:PUBLISH
BEGIN:VEVENT
UID:reachsf-event-339@reachsf.com
DTSTAMP:20260421T094857Z
DTSTART;TZID=America/Los_Angeles:20260426T100000
DTEND;TZID=America/Los_Angeles:20260426T120000
SUMMARY:Teen Challenge Sunday Gathering
LOCATION:
DESCRIPTION:Service schedule: Ministry
END:VEVENT
END:VCALENDAR